BEGIN:VCALENDAR
VERSION:2.0
PRODID:-//https://faithvictoria.org.au///NONSGML kigkonsult.se iCalcreator 2.10.15//
METHOD:PUBLISH
BEGIN:VEVENT
UID:20260424T173709UTC-8354aEzvSh@https://faithvictoria.org.au/
DTSTAMP:20260424T173709Z
DESCRIPTION:Assumption of the Blessed Virgin MarySunday&nbsp\;15 August&nbs
 p\;2021Religion: Christianity\nCommemorates the assumption of Mary\, mothe
 r of Jesus\, into heaven. https://faithvictoria.org.au/component/rseventsp
 ro/event/1274-assumption-of-the-blessed-virgin-mary-christianity?Itemid=17
 4
DTSTART;VALUE=DATE:20210815
LOCATION:RSEvents!Pro Location (Colorado\, USA)
SUMMARY:Assumption of the Blessed Virgin Mary (Christianity)
URL:https://faithvictoria.org.au/component/rseventspro/event/1274-assumptio
 n-of-the-blessed-virgin-mary-christianity?Itemid=174
END:VEVENT
END:VCALENDAR
