BEGIN:VCALENDAR
VERSION:2.0
PRODID:-//https://faithvictoria.org.au///NONSGML kigkonsult.se iCalcreator 2.10.15//
METHOD:PUBLISH
BEGIN:VEVENT
UID:20260424T171206UTC-5594RhDhHn@https://faithvictoria.org.au/
DTSTAMP:20260424T171206Z
DESCRIPTION:Ashala Puja / Dharma DaySaturday&nbsp\;24 July 2021Religion: Bu
 ddhism Asalha Puja commemorates Buddha’s first teaching (the Wheel of Dhar
 ma) and is recognized as the beginning of Buddhism. Also known as ‘Dharma/
 Dhamma Day’. https://faithvictoria.org.au/component/rseventspro/event/1273
 -ashala-puja-dharma-day-buddhism?Itemid=174
DTSTART;VALUE=DATE:20210724
LOCATION:RSEvents!Pro Location (Colorado\, USA)
SUMMARY:Ashala Puja / Dharma Day (Buddhism)
URL:https://faithvictoria.org.au/component/rseventspro/event/1273-ashala-pu
 ja-dharma-day-buddhism?Itemid=174
END:VEVENT
END:VCALENDAR
