BEGIN:VCALENDAR
VERSION:2.0
PRODID:-//https://faithvictoria.org.au///NONSGML kigkonsult.se iCalcreator 2.10.15//
METHOD:PUBLISH
BEGIN:VEVENT
UID:20260424T171754UTC-2715wvEFux@https://faithvictoria.org.au/
DTSTAMP:20260424T171754Z
DESCRIPTION:Tisha B'avSunday 18 July 2021Religion: Judaism\nTisha B’av (Fas
 t of Av) is a day of mourning to remember events such as the destruction o
 f the First Temple and Second Temple in Jerusalem. https://faithvictoria.o
 rg.au/component/rseventspro/event/1272-tisha-bav-judaism?Itemid=174
DTSTART;VALUE=DATE:20210718
LOCATION:RSEvents!Pro Location (Colorado\, USA)
SUMMARY:Tisha B'Av (Judaism)
URL:https://faithvictoria.org.au/component/rseventspro/event/1272-tisha-bav
 -judaism?Itemid=174
END:VEVENT
END:VCALENDAR
