BEGIN:VCALENDAR
VERSION:2.0
PRODID:-//https://faithvictoria.org.au///NONSGML kigkonsult.se iCalcreator 2.10.15//
METHOD:PUBLISH
BEGIN:VEVENT
UID:20260424T171442UTC-4904JVBEZh@https://faithvictoria.org.au/
DTSTAMP:20260424T171442Z
DESCRIPTION:Eid ul FitrBegins:&nbsp\;Thursday&nbsp\;13 June&nbsp\;2021Ends:
 &nbsp\;Saturday 15&nbsp\;June&nbsp\;2021Religion: Islam\nAn important reli
 gious holiday celebrated by Muslims worldwide that celebrates the end of R
 amadan\, the Islamic holy month of fasting. Also known as the festival of 
 the ‘Breaking of the Fast’. https://faithvictoria.org.au/component/rsevent
 spro/event/1270-eid-ul-fitr-islam?Itemid=174
DTSTART;VALUE=DATE:20210513
LOCATION:RSEvents!Pro Location (Colorado\, USA)
SUMMARY:Eid ul Fitr (Islam)
URL:https://faithvictoria.org.au/component/rseventspro/event/1270-eid-ul-fi
 tr-islam?Itemid=174
END:VEVENT
END:VCALENDAR
