BEGIN:VCALENDAR
VERSION:2.0
PRODID:-//https://faithvictoria.org.au///NONSGML kigkonsult.se iCalcreator 2.10.15//
METHOD:PUBLISH
BEGIN:VEVENT
UID:20260424T171904UTC-5737BnoR5e@https://faithvictoria.org.au/
DTSTAMP:20260424T171904Z
DESCRIPTION:Lailat al QadrSunday&nbsp\;2 May 2021Religion: Islam\nFirst rev
 elation of Qur'an (Islamic scriptures) to Prophet Muhammad in 610 CE. Also
  known as ‘Night of Power’ or ‘Night of Destiny’. Observed during the last
  ten days of Ramadan. https://faithvictoria.org.au/component/rseventspro/e
 vent/1268-lailat-al-qadr-islam?Itemid=174
DTSTART;VALUE=DATE:20210502
LOCATION:RSEvents!Pro Location (Colorado\, USA)
SUMMARY:Lailat al Qadr (Islam)
URL:https://faithvictoria.org.au/component/rseventspro/event/1268-lailat-al
 -qadr-islam?Itemid=174
END:VEVENT
END:VCALENDAR
