BEGIN:VCALENDAR
VERSION:2.0
PRODID:-//https://faithvictoria.org.au///NONSGML kigkonsult.se iCalcreator 2.10.15//
METHOD:PUBLISH
BEGIN:VEVENT
UID:20260424T205303UTC-9682mMniPv@https://faithvictoria.org.au/
DTSTAMP:20260424T205303Z
DESCRIPTION:Ascension of Baha'ullahFriday&nbsp\;28 May 2021Religion: Baha'i
 \nBaha’is observe the anniversary of the death in exile of Baha’u’llah\, t
 he founder of the Baha’i faith\, on May 29\, 1892\, outside Akko (now nort
 hern Israel). https://faithvictoria.org.au/component/rseventspro/event/126
 7-ascension-of-bahaullah-bahai?Itemid=174
DTSTART;VALUE=DATE:20210528
LOCATION:RSEvents!Pro Location (Colorado\, USA)
SUMMARY:Ascension of Baha'ullah (Baha'i)
URL:https://faithvictoria.org.au/component/rseventspro/event/1267-ascension
 -of-bahaullah-bahai?Itemid=174
END:VEVENT
END:VCALENDAR
