BEGIN:VCALENDAR
VERSION:2.0
PRODID:-//https://faithvictoria.org.au///NONSGML kigkonsult.se iCalcreator 2.10.15//
METHOD:PUBLISH
BEGIN:VEVENT
UID:20260424T172717UTC-36445gwucJ@https://faithvictoria.org.au/
DTSTAMP:20260424T172717Z
DESCRIPTION:PentecostSunday&nbsp\;23 May 2021Religion: Christianity\nPentec
 ost commemorates the descent of the Holy Spirit upon the disciples of Jesu
 s seven weeks (50 days) after the Resurrection (Easter). It also commemora
 tes the founding of the Christian Church\, which begins on this day. https
 ://faithvictoria.org.au/component/rseventspro/event/1264-pentecost-christi
 anity?Itemid=174
DTSTART;VALUE=DATE:20210523
LOCATION:RSEvents!Pro Location (Colorado\, USA)
SUMMARY:Pentecost (Christianity)
URL:https://faithvictoria.org.au/component/rseventspro/event/1264-pentecost
 -christianity?Itemid=174
END:VEVENT
END:VCALENDAR
