BEGIN:VCALENDAR
VERSION:2.0
PRODID:-//https://faithvictoria.org.au///NONSGML kigkonsult.se iCalcreator 2.10.15//
METHOD:PUBLISH
BEGIN:VEVENT
UID:20260424T205428UTC-5551VbUwrd@https://faithvictoria.org.au/
DTSTAMP:20260424T205428Z
DESCRIPTION:Vesak / Buddha DayWednesday&nbsp\;26 May 2021Religion: Buddhism
 \nVesak (Wesak) is the major Buddhist festival. It celebrates the birth\, 
 enlightenment and&nbsp\;death of the Buddha on the one day. Also known as 
 ‘Vishakha Puja’ or ‘Buddha’s Day’.&nbsp\;The dates of this celebration var
 y significantly among Buddhist cultures and&nbsp\;communities. https://fai
 thvictoria.org.au/component/rseventspro/event/1258-vesak-vishakha-puja-bud
 dha-s-day-buddhism?Itemid=174
DTSTART;VALUE=DATE:20210526
LOCATION:RSEvents!Pro Location (Colorado\, USA)
SUMMARY:Vesak / Vishakha Puja / Buddha’s Day (Buddhism) 
URL:https://faithvictoria.org.au/component/rseventspro/event/1258-vesak-vis
 hakha-puja-buddha-s-day-buddhism?Itemid=174
END:VEVENT
END:VCALENDAR
