BEGIN:VCALENDAR
VERSION:2.0
PRODID:-//https://faithvictoria.org.au///NONSGML kigkonsult.se iCalcreator 2.10.15//
METHOD:PUBLISH
BEGIN:VEVENT
UID:20260424T171752UTC-8935dMwnRB@https://faithvictoria.org.au/
DTSTAMP:20260424T171752Z
DESCRIPTION:BaisakhiWednesday&nbsp\;14 April 2021Religion: Sikhism\nBaisakh
 i (Vaisakhi) marks the founding of the Khalsa (the Brotherhood of the Pure
 ) in 1699 CE by Guru Gobind Singh. The Khalsa is the collective body of al
 l baptised Sikhs who carry the five articles of the faith - Kesh (uncut ha
 ir)\, Kirpan (ceremonial sword)\, Kara (steel bracelet)\, Kanga (comb) and
  Kaccha (undershorts). https://faithvictoria.org.au/component/rseventspro/
 event/1256-baisakhi-vaisakhi-also-bakrami-samvat-sikhism?Itemid=174
DTSTART;VALUE=DATE:20210414
LOCATION:RSEvents!Pro Location (Colorado\, USA)
SUMMARY:Baisakhi (Vaisakhi) also Bakrami Samvat (Sikhism)
URL:https://faithvictoria.org.au/component/rseventspro/event/1256-baisakhi-
 vaisakhi-also-bakrami-samvat-sikhism?Itemid=174
END:VEVENT
END:VCALENDAR
