BEGIN:VCALENDAR
VERSION:2.0
PRODID:-//https://faithvictoria.org.au///NONSGML kigkonsult.se iCalcreator 2.10.15//
METHOD:PUBLISH
BEGIN:VEVENT
UID:20260424T160348UTC-0326bVg790@https://faithvictoria.org.au/
DTSTAMP:20260424T160348Z
DESCRIPTION:EasterSunday 4 April 2021Religion: Christianity\nThe resurrecti
 on of Jesus Christ following his death by crucifixion. https://faithvictor
 ia.org.au/component/rseventspro/event/1252-easter-christianity?Itemid=174
DTSTART;VALUE=DATE:20210404
LOCATION:RSEvents!Pro Location (Colorado\, USA)
SUMMARY:Easter (Christianity)
URL:https://faithvictoria.org.au/component/rseventspro/event/1252-easter-ch
 ristianity?Itemid=174
END:VEVENT
END:VCALENDAR
