BEGIN:VCALENDAR
VERSION:2.0
PRODID:-//https://faithvictoria.org.au///NONSGML kigkonsult.se iCalcreator 2.10.15//
METHOD:PUBLISH
BEGIN:VEVENT
UID:20260424T154835UTC-9566jGdhCb@https://faithvictoria.org.au/
DTSTAMP:20260424T154835Z
DESCRIPTION:Holy WeekStart: Sunday 28.3.2021Ends: Sunday 3 April&nbsp\;2021
 \nReligion: Christianity\nHoly week is the last week before Easter. It beg
 ins with Palm Sunday (commemoration of the triumphal entry of Jesus Christ
  into Jerusalem) and includes Maundy Thursday (commemoration of the first 
 Lord’s Supper)\, Good Friday (commemoration of the suffering and crucifixi
 on of Jesus Christ)\, and finishes on Easter Sunday (the resurrection of J
 esus Christ following his death by crucifixion). https://faithvictoria.org
 .au/component/rseventspro/event/1247-holy-week-begins-christianity?Itemid=
 174
DTSTART;VALUE=DATE:20210328
LOCATION:RSEvents!Pro Location (Colorado\, USA)
SUMMARY:Holy Week begins (Christianity)
URL:https://faithvictoria.org.au/component/rseventspro/event/1247-holy-week
 -begins-christianity?Itemid=174
END:VEVENT
END:VCALENDAR
