BEGIN:VCALENDAR
VERSION:2.0
PRODID:-//https://faithvictoria.org.au///NONSGML kigkonsult.se iCalcreator 2.10.15//
METHOD:PUBLISH
BEGIN:VEVENT
UID:20260424T204523UTC-7792nJ3mrh@https://faithvictoria.org.au/
DTSTAMP:20260424T204523Z
DESCRIPTION:Hola MohallaMonday&nbsp\;29.3.2021Religion: Sikhism\nAn annual 
 festival started by Guru Gobind Singh\, the 10th Sikh Guru\, as a gatherin
 g of&nbsp\;Sikhs for military exercises and mock battles. https://faithvic
 toria.org.au/component/rseventspro/event/1245-hola-mohalla-sikhism?Itemid=
 174
DTSTART;VALUE=DATE:20210329
LOCATION:RSEvents!Pro Location (Colorado\, USA)
SUMMARY:Hola Mohalla (Sikhism)
URL:https://faithvictoria.org.au/component/rseventspro/event/1245-hola-moha
 lla-sikhism?Itemid=174
END:VEVENT
END:VCALENDAR
