BEGIN:VCALENDAR
VERSION:2.0
PRODID:-//https://faithvictoria.org.au///NONSGML kigkonsult.se iCalcreator 2.10.15//
METHOD:PUBLISH
BEGIN:VEVENT
UID:20260424T172905UTC-0980mBiWKP@https://faithvictoria.org.au/
DTSTAMP:20260424T172905Z
DESCRIPTION:Maha ShivaratriThursday&nbsp\;12.3.2021Religion: Hinduism\nMaha
  Shivaratri (or the 'Great Night of Shiva') is a festival celebrated with 
 devotion and religious fervour in honour of the Hindu deity Lord Shiva\, o
 ne of the deities of the Hindu Trinity. https://faithvictoria.org.au/compo
 nent/rseventspro/event/1234-mahashivaratri-hinduism?Itemid=174
DTSTART;VALUE=DATE:20210311
LOCATION:RSEvents!Pro Location (Colorado\, USA)
SUMMARY:MahaShivaratri (Hinduism)
URL:https://faithvictoria.org.au/component/rseventspro/event/1234-mahashiva
 ratri-hinduism?Itemid=174
END:VEVENT
END:VCALENDAR
