BEGIN:VCALENDAR
VERSION:2.0
PRODID:-//https://faithvictoria.org.au///NONSGML kigkonsult.se iCalcreator 2.10.15//
METHOD:PUBLISH
BEGIN:VEVENT
UID:20260424T171331UTC-6387Nl1Iev@https://faithvictoria.org.au/
DTSTAMP:20260424T171331Z
DESCRIPTION:Great Lent Starts on Monday 15.3.2021Ends on Friday 23.4.2021Re
 ligion: Christianity (Orthodox)\nGreat Lent is the period of 40 days of wh
 ich comes before Easter\, traditionally a time of fasting and reflection. 
 The&nbsp\;40 days represent the time Jesus spent in the desert overcoming 
 temptation by Satan. In the Orthodox Church\, Great Lent starts on Clean M
 onday and ends on the Friday before Lazarus Saturday and Palm Sunday. http
 s://faithvictoria.org.au/component/rseventspro/event/1232-great-lent-ortho
 dox-christianity?Itemid=174
DTSTART;VALUE=DATE:20210315
LOCATION:RSEvents!Pro Location (Colorado\, USA)
SUMMARY:Great Lent (Orthodox Christianity)
URL:https://faithvictoria.org.au/component/rseventspro/event/1232-great-len
 t-orthodox-christianity?Itemid=174
END:VEVENT
END:VCALENDAR
